BEGIN:VCALENDAR
VERSION:2.0
PRODID:-//Diocese of Covington - ECPv6.15.14//NONSGML v1.0//EN
CALSCALE:GREGORIAN
METHOD:PUBLISH
X-WR-CALNAME:Diocese of Covington
X-ORIGINAL-URL:https://covdio.org
X-WR-CALDESC:Events for Diocese of Covington
REFRESH-INTERVAL;VALUE=DURATION:PT1H
X-Robots-Tag:noindex
X-PUBLISHED-TTL:PT1H
BEGIN:VTIMEZONE
TZID:America/New_York
BEGIN:DAYLIGHT
TZOFFSETFROM:-0500
TZOFFSETTO:-0400
TZNAME:EDT
DTSTART:20250309T070000
END:DAYLIGHT
BEGIN:STANDARD
TZOFFSETFROM:-0400
TZOFFSETTO:-0500
TZNAME:EST
DTSTART:20251102T060000
END:STANDARD
BEGIN:DAYLIGHT
TZOFFSETFROM:-0500
TZOFFSETTO:-0400
TZNAME:EDT
DTSTART:20260308T070000
END:DAYLIGHT
BEGIN:STANDARD
TZOFFSETFROM:-0400
TZOFFSETTO:-0500
TZNAME:EST
DTSTART:20261101T060000
END:STANDARD
BEGIN:DAYLIGHT
TZOFFSETFROM:-0500
TZOFFSETTO:-0400
TZNAME:EDT
DTSTART:20270314T070000
END:DAYLIGHT
BEGIN:STANDARD
TZOFFSETFROM:-0400
TZOFFSETTO:-0500
TZNAME:EST
DTSTART:20271107T060000
END:STANDARD
END:VTIMEZONE
BEGIN:VEVENT
DTSTART;TZID=America/New_York:20260502T100000
DTEND;TZID=America/New_York:20260502T150000
DTSTAMP:20260423T172356
CREATED:20260423T130701Z
LAST-MODIFIED:20260423T153459Z
UID:141304-1777716000-1777734000@covdio.org
SUMMARY:St John's Dames in Faith May Market
DESCRIPTION: Join us for this first annual\, family-friendly event on Saturday\, May 2\, 2026\, from 10:00 a.m. to 3:00 p.m. in Prince of Peace School Auditorium\, 625 W Pike Street\, Covington\, KY. Over 15 local vendors will offer their products including jewelry\, hand-poured candles\, 3-D printed treasures\, even freeze-dried candy. With something for everyone\, it will also be the perfect place to find a unique gift for Mom for Mother’s Day! There will be a snack booth to keep you energized while you shop\, a dedicated kids’ area with activities\, and free parking in the St. John Church parking lot or the event lot under the I-75 overpass across from the Kenton County Government Center. For more information\, visit our Facebook page\, St. John’s Dames in Faith May Market. Hope to see you there! \n 
URL:https://covdio.org/event/st-johns-dames-in-faith-may-market/
LOCATION:St. John the Evangelist Parish\, Covington\, 627 Pike St\, Covington\, KY\, 41011-2148\, United States
CATEGORIES:Parish
ATTACH;FMTTYPE=image/png:https://covdio.org/wp-content/uploads/2026/04/Current-May-Market-Flyer.png
END:VEVENT
END:VCALENDAR